BEGIN:VCALENDAR
VERSION:2.0
PRODID:-//Housing is a Human Right OC - ECPv6.15.20//NONSGML v1.0//EN
CALSCALE:GREGORIAN
METHOD:PUBLISH
X-ORIGINAL-URL:https://housingisahumanrightoc.org
X-WR-CALDESC:Events for Housing is a Human Right OC
REFRESH-INTERVAL;VALUE=DURATION:PT1H
X-Robots-Tag:noindex
X-PUBLISHED-TTL:PT1H
BEGIN:VTIMEZONE
TZID:UTC
BEGIN:STANDARD
TZOFFSETFROM:+0000
TZOFFSETTO:+0000
TZNAME:UTC
DTSTART:20250101T000000
END:STANDARD
END:VTIMEZONE
BEGIN:VEVENT
DTSTART;VALUE=DATE:20260501
DTEND;VALUE=DATE:20260502
DTSTAMP:20260424T232121
CREATED:20260424T160533Z
LAST-MODIFIED:20260424T161531Z
UID:1731-1777593600-1777679999@housingisahumanrightoc.org
SUMMARY:submit a comment by May 1st
DESCRIPTION:Work Requirements and Time Limits on Housing \nHUD seeks to allow public housing agencies and HUD assisted owners to impose work requirements and time limits on families who rely on federal programs for housing. Just a 2-year time limit on assistance would result in an estimated 3.3 million people losing their rental assistance\, including 1.7 million children. \nLearn more and submit a comment by May 1st
URL:https://housingisahumanrightoc.org/event/submit-a-comment-by-may-1st/
LOCATION:Remote / local action\, Online or local action\, Your home or library or other internet connection.\, United States
CATEGORIES:Special Events
ORGANIZER;CN="Housing is a Human Right OC":MAILTO:info@hhroc.org
END:VEVENT
END:VCALENDAR